BEGIN:VCALENDAR
VERSION:2.0
PRODID:-//eventon.com NONSGML v1.0//EN
BEGIN:VEVENT
UID:69e9c68af00d0
DTSTAMP:20260423T071314
DTSTART:20251102T030000Z
DTEND:20251102T050000Z
TZID:Pacific/Midway
LOCATION:
SUMMARY:SÁLMURINN UM BLÓMIÐ - Jón Hjartarson - uppselt
DESCRIPTION: &nbsp; Sálmurinn um blómið er eitt vinsælasta ritverk Þórbergs Þórðarsonar. Þetta er einstök saga um líf lítillar manneskju frá því hún er reifabarn þar til hún er orðin ung stúlka. Jón  Hjartarson leikari mun túlka Sálminn í söguformi en Jón lék Þórberg í rómaðri uppsetningu Kjartans Ragnarssonar á Ofvitanum hjá[..]\nhttps://www.landnam.is/vidburdir/salmurinn-um-blomid-jon-hjartarson-copy-copy-copy/
URL:https://www.landnam.is/vidburdir/salmurinn-um-blomid-jon-hjartarson-copy-copy-copy/
END:VEVENT
END:VCALENDAR