BEGIN:VCALENDAR
VERSION:2.0
PRODID:-//eventon.com NONSGML v1.0//EN
BEGIN:VEVENT
UID:69e91c919c38b
DTSTAMP:20260422T190801
DTSTART:20250830T070000Z
DTEND:20250830T090000Z
TZID:Pacific/Midway
LOCATION:
SUMMARY:Svavar Knútur - Tónleikar
DESCRIPTION: &nbsp; Svavar Knútur söngvaskáld fagnar þessa dagana sumrinu með tónleikum og ferðalögum um landið þvert og endilangt og kemur meðal annars við í Borgarnesi\,  þar sem hann heldur tónleika í Landnámssetrinu\,  föstudaginn 29. ágúst næstkomandi. Á síðasta ári komu út nýjasta plata Svavars\,  Ahoy! Side B\,  ásamt tvöföldum vínyl\,  þar[..]\nhttps://www.landnam.is/vidburdir/svavar-knutur-tonleikar/
URL:https://www.landnam.is/vidburdir/svavar-knutur-tonleikar/
END:VEVENT
END:VCALENDAR