BEGIN:VCALENDAR
VERSION:2.0
PRODID:-//eventon.com NONSGML v1.0//EN
BEGIN:VEVENT
UID:69e95295286d8
DTSTAMP:20260422T225829
DTSTART:20250630T030000Z
DTEND:20250630T050000Z
TZID:Pacific/Midway
LOCATION:
SUMMARY:Dansk- íslenska tríóið Krauka
DESCRIPTION: Dansk &#8211; Íslenska trióið Krauka Aksel Striim Guðjon Rudolf Jens Villy Pedersen Með tónum frá endurgerðum hljóðfærum frá víkinga tímanum með ræturnar í sögunni\,  Goðafræðinni\,  þjóðsögunni og á vængjum hugmyndaflugsins tekur Krauka okkur á vit tónlistar ævintýra. Krauka hefur í yfir 25 ár haldið tónleika og uppákomur víðsvegar í Evrópu[..]\nhttps://www.landnam.is/vidburdir/dansk-islenska-trioid-krauka/
URL:https://www.landnam.is/vidburdir/dansk-islenska-trioid-krauka/
END:VEVENT
END:VCALENDAR