BEGIN:VCALENDAR
VERSION:2.0
PRODID:-//eventon.com NONSGML v1.0//EN
BEGIN:VEVENT
UID:69e98ff596417
DTSTAMP:20260423T032021
DTSTART:20250929T030000Z
DTEND:20250929T050000Z
TZID:Pacific/Midway
LOCATION:
SUMMARY:Laxdæla – Vilborg Davíðsdóttir
DESCRIPTION: Ástir og afbrýði\,  hetjur og harmar\,  blóðhefndir og vígaferli\,  álög og seiður. Allt þetta og meira til er að finna í Laxdælu sem hefur um aldir verið ein ástsælasta Íslendingasagan. Sterkar konur og skrautbúnir menn stíga þar fram í röðum en það er hin örlynda Guðrún Ósvífursdóttir sem bindur söguna[..]\nhttps://www.landnam.is/vidburdir/laxdaela-vilborg-davidsdottir-15/
URL:https://www.landnam.is/vidburdir/laxdaela-vilborg-davidsdottir-15/
END:VEVENT
END:VCALENDAR