BEGIN:VCALENDAR
VERSION:2.0
PRODID:-//eventon.com NONSGML v1.0//EN
BEGIN:VEVENT
UID:69e9c8c4e0dc2
DTSTAMP:20260423T072244
DTSTART:20250416T070000Z
DTEND:20250416T090000Z
TZID:Pacific/Midway
LOCATION:
SUMMARY:Kvöldstund á 78-snúningum
DESCRIPTION: Ingi Garðar Erlendsson og Trausti Jónsson ræða um íslensku 78-snúninga hljómplötuna\,  (auðvitað með feitum tóndæmum)\,  allt frá þeirri elstu (hver var hún?) &#8211; til þeirrar síðustu (og hver var hún?). Við sögu koma einsöngvarar\,  kórar og auðvitað dægurtónlist eins og hún var og hét. Hverjar voru vinsælustu plöturnar &#8211; og[..]\nhttps://www.landnam.is/vidburdir/kvoldstund-a-78-snuningum/
URL:https://www.landnam.is/vidburdir/kvoldstund-a-78-snuningum/
END:VEVENT
END:VCALENDAR