BEGIN:VCALENDAR
VERSION:2.0
PRODID:-//eventon.com NONSGML v1.0//EN
BEGIN:VEVENT
UID:69e58450764da
DTSTAMP:20260420T014136
DTSTART:20260607T190000Z
DTEND:20260607T210000Z
TZID:Atlantic/Reykjavik
LOCATION:
SUMMARY:SALKA - ástin og dauðinn
DESCRIPTION: Í tilefni af tuttugu ára afmæli Landnámsseturs Íslands í Borgarnesi taka Þjóðleikhúsið og Landnámssetrið höndum saman og bjóða upp á nýjan einleik. Unnur Ösp Stefánsdóttir hefur samið og mun flytja nýtt leikverk byggt á skáldsögu Halldórs Laxness Sölku Völku á Sögulofti setursins. KAUPA MIÐA „…en tvær sálir geta verið svo[..]\nhttps://www.landnam.is/vidburdir/salka-astin-og-daudinn-23/
URL:https://www.landnam.is/vidburdir/salka-astin-og-daudinn-23/
END:VEVENT
END:VCALENDAR